BEGIN:VCALENDAR
VERSION:2.0
PRODID:SchoolNow
CALSCALE:GREGORIAN
BEGIN:VEVENT
UID:8b6c9bac-dd6a-11ee-ae22-0affd44f8145
DTSTAMP:20251121T133512Z
SUMMARY:Board of Education Meeting
URL;VALUE=URI:https://www.mcoe.us/calendar/5496055/board-of-education-meeti
 ng
DTSTART:20251013T170000Z
DTEND:20251013T200000Z
END:VEVENT
END:VCALENDAR
