BEGIN:VCALENDAR
VERSION:2.0
PRODID:SchoolNow
CALSCALE:GREGORIAN
BEGIN:VEVENT
UID:62267ac4-dfcc-11ee-ae49-026522008683
DTSTAMP:20251121T133512Z
SUMMARY:Board of Education Meeting
URL;VALUE=URI:https://www.mcoe.us/calendar/5519619/board-of-education-meeti
 ng
DTSTART:20251110T180000Z
DTEND:20251110T210000Z
END:VEVENT
END:VCALENDAR
