BEGIN:VCALENDAR
VERSION:2.0
PRODID:SchoolNow
CALSCALE:GREGORIAN
BEGIN:VEVENT
UID:4d0a891e-8cfa-11f0-91c9-0212b475c173
DTSTAMP:20251121T133512Z
SUMMARY:SELPA Policy Council Meeting
LOCATION:2240 Old River Rd\, Ukiah\, CA 95482\, Cedar Building\, River Room
URL;VALUE=URI:https://www.mcoe.us/calendar/8596239/selpa-policy-council-mee
 ting
DTSTART:20250919T160000Z
DTEND:20250919T180000Z
ATTACH;FILENAME=PC Mtg Agenda 9.19.25;FMTTYPE=application/octet-stream:http
 s://drive.google.com/open?id=1tttr0kWj861NCqd-xBbzxot9aKLnJNh-MlYlfln5S98
END:VEVENT
END:VCALENDAR
