BEGIN:VCALENDAR
VERSION:2.0
PRODID:SchoolNow
CALSCALE:GREGORIAN
BEGIN:VEVENT
UID:048c10e2-928e-11f0-bd02-0a58a9feac02
DTSTAMP:20251121T133512Z
SUMMARY:Public Hearing on Sufficiency of Textbooks and Instructional Materi
 als
URL;VALUE=URI:https://www.mcoe.us/calendar/8626300/public-hearing-on-suffic
 iency-of-textbooks-and-instructional-materials
DTSTART:20250924T002500Z
DTEND:20250924T012500Z
END:VEVENT
END:VCALENDAR
