BEGIN:VCALENDAR
VERSION:2.0
PRODID:SchoolNow
CALSCALE:GREGORIAN
BEGIN:VEVENT
UID:17b2293a-aca7-11f0-9b76-0a58a9feac02
DTSTAMP:20251121T133512Z
SUMMARY:MCOE at PumpkinFest in Ukiah
URL;VALUE=URI:https://www.mcoe.us/calendar/8732870/mcoe-at-pumpkinfest-in-u
 kiah
DTSTART;VALUE=DATE:20251018
DTEND;VALUE=DATE:20251020
END:VEVENT
END:VCALENDAR
