BEGIN:VCALENDAR
VERSION:2.0
PRODID:SchoolNow
CALSCALE:GREGORIAN
BEGIN:VEVENT
UID:92bc4de4-3ccc-11f1-9ace-0a58a9feac02
DTSTAMP:20260421T033007Z
SUMMARY:MCOE at Día del Niño Celebration in Ukiah
URL;VALUE=URI:https://www.mcoe.us/calendar/9007395/mcoe-at-dia-del-nino-cel
 ebration-in-ukiah
DTSTART;VALUE=DATE:20260426
DTEND;VALUE=DATE:20260427
END:VEVENT
END:VCALENDAR
