BEGIN:VCALENDAR
VERSION:2.0
PRODID:SchoolNow
CALSCALE:GREGORIAN
BEGIN:VEVENT
UID:92bc4ede-3ccc-11f1-a492-0a58a9feac02
DTSTAMP:20260420T152115Z
SUMMARY:FinCamp - Teach Money - Change Lives
URL;VALUE=URI:https://www.mcoe.us/calendar/9007396/fincamp-teach-money-chan
 ge-lives
DTSTART:20260422T153000Z
DTEND:20260422T223000Z
END:VEVENT
END:VCALENDAR
