BEGIN:VCALENDAR
VERSION:2.0
PRODID:SchoolNow
CALSCALE:GREGORIAN
BEGIN:VEVENT
UID:48433388-3f63-11f1-910b-0a58a9feac02
DTSTAMP:20260423T222507Z
SUMMARY:Enrollment Open for State Preschool Part-day
URL;VALUE=URI:https://www.mcoe.us/calendar/9014639/enrollment-open-for-stat
 e-preschool-part-day
DTSTART;VALUE=DATE:20260415
DTEND;VALUE=DATE:20260502
END:VEVENT
END:VCALENDAR
