BEGIN:VCALENDAR
VERSION:2.0
PRODID:SchoolNow
CALSCALE:GREGORIAN
BEGIN:VEVENT
UID:55af689e-464d-11f0-87da-0affff859689
DTSTAMP:20251121T133525Z
SUMMARY:Universal Design for Learning (UDL) Conference
URL;VALUE=URI:https://www.mcoe.us/educators/professional-development/calend
 ar/8283299/universal-design-for-learning-udl-conference
DTSTART:20250804T150000Z
DTEND:20250804T230000Z
END:VEVENT
END:VCALENDAR
