BEGIN:VCALENDAR
VERSION:2.0
PRODID:SchoolNow
CALSCALE:GREGORIAN
BEGIN:VEVENT
UID:8d198c80-5609-11f0-8b8e-0a58a9feac02
DTSTAMP:20251121T133525Z
SUMMARY:New Teacher Bootcamp (Fort Bragg)
URL;VALUE=URI:https://www.mcoe.us/educators/professional-development/calend
 ar/8371730/new-teacher-bootcamp-fort-bragg
DTSTART;VALUE=DATE:20250805
DTEND;VALUE=DATE:20250807
END:VEVENT
END:VCALENDAR
