BEGIN:VCALENDAR
VERSION:2.0
PRODID:SchoolNow
CALSCALE:GREGORIAN
BEGIN:VEVENT
UID:8d198f8c-5609-11f0-ae43-0a58a9feac02
DTSTAMP:20251121T133525Z
SUMMARY:New Teacher Bootcamp (Ukiah)
URL;VALUE=URI:https://www.mcoe.us/educators/professional-development/calend
 ar/8371731/new-teacher-bootcamp-ukiah
DTSTART;VALUE=DATE:20250811
DTEND;VALUE=DATE:20250813
END:VEVENT
END:VCALENDAR
