BEGIN:VCALENDAR
VERSION:2.0
PRODID:SchoolNow
CALSCALE:GREGORIAN
BEGIN:VEVENT
UID:6892da4a-586d-11f0-9e69-0affe15289b7
DTSTAMP:20251121T133525Z
SUMMARY:DUE: Medical Assistant Program Application
URL;VALUE=URI:https://www.mcoe.us/educators/professional-development/calend
 ar/8382712/due-medical-assistant-program-application
DTSTART;VALUE=DATE:20250930
DTEND;VALUE=DATE:20251001
END:VEVENT
END:VCALENDAR
