BEGIN:VCALENDAR
VERSION:2.0
PRODID:SchoolNow
CALSCALE:GREGORIAN
BEGIN:VEVENT
UID:3e3f9f12-5c69-11f0-a2b5-02bdbdc18baf
DTSTAMP:20251121T133525Z
SUMMARY:AERIES Training Series: CalPADS & Aeries
URL;VALUE=URI:https://www.mcoe.us/educators/professional-development/calend
 ar/8397771/aeries-training-series-calpads-aeries
DTSTART:20250910T153000Z
DTEND:20250910T223000Z
END:VEVENT
END:VCALENDAR
