BEGIN:VCALENDAR
VERSION:2.0
PRODID:SchoolNow
CALSCALE:GREGORIAN
BEGIN:VEVENT
UID:3e3fa192-5c69-11f0-8ce6-02bdbdc18baf
DTSTAMP:20251121T133525Z
SUMMARY:AERIES Training Series: Attendance & attendance letters
URL;VALUE=URI:https://www.mcoe.us/educators/professional-development/calend
 ar/8397772/aeries-training-series-attendance-attendance-letters
DTSTART:20251008T153000Z
DTEND:20251008T223000Z
END:VEVENT
END:VCALENDAR
