BEGIN:VCALENDAR
VERSION:2.0
PRODID:SchoolNow
CALSCALE:GREGORIAN
BEGIN:VEVENT
UID:df57bef0-7719-11f0-a79c-0a58a9feac02
DTSTAMP:20251121T133525Z
SUMMARY:Spark Saturday: Inland
LOCATION:Mendocino County Office-Education\, 2240 Old River Rd\, Ukiah\, CA
  95482\, USA
URL;VALUE=URI:https://www.mcoe.us/educators/professional-development/calend
 ar/8492959/spark-saturday-inland
DTSTART;VALUE=DATE:20251004
DTEND;VALUE=DATE:20251005
END:VEVENT
END:VCALENDAR
