BEGIN:VCALENDAR
VERSION:2.0
PRODID:SchoolNow
CALSCALE:GREGORIAN
BEGIN:VEVENT
UID:df57c530-7719-11f0-978a-0a58a9feac02
DTSTAMP:20251121T133525Z
SUMMARY:Spark Saturday: Coast
LOCATION:Fort Bragg High School\, 300 Dana St\, Fort Bragg\, CA 95437\, USA
URL;VALUE=URI:https://www.mcoe.us/educators/professional-development/calend
 ar/8492962/spark-saturday-coast
DTSTART;VALUE=DATE:20250927
DTEND;VALUE=DATE:20250928
END:VEVENT
END:VCALENDAR
