BEGIN:VCALENDAR
VERSION:2.0
PRODID:SchoolNow
CALSCALE:GREGORIAN
BEGIN:VEVENT
UID:df57c72e-7719-11f0-b6c5-0a58a9feac02
DTSTAMP:20251121T133525Z
SUMMARY:ASB Workshop: Strengthening Fiscal Accountability in Student Body P
 rograms
URL;VALUE=URI:https://www.mcoe.us/educators/professional-development/calend
 ar/8492964/asb-workshop-strengthening-fiscal-accountability-in-student-bod
 y-programs
DTSTART:20251030T153000Z
DTEND:20251030T190000Z
END:VEVENT
END:VCALENDAR
