BEGIN:VCALENDAR
VERSION:2.0
PRODID:SchoolNow
CALSCALE:GREGORIAN
BEGIN:VEVENT
UID:cb3d1e5a-794a-11f0-af08-0a58a9feac02
DTSTAMP:20251121T133525Z
SUMMARY:CalPERS Business Rules\, Advanced Compensation\, and Advanced Membe
 rship Training
URL;VALUE=URI:https://www.mcoe.us/educators/professional-development/calend
 ar/8508692/calpers-business-rules-advanced-compensation-and-advanced-membe
 rship-training
DTSTART:20250910T160000Z
DTEND:20250910T231500Z
END:VEVENT
END:VCALENDAR
