BEGIN:VCALENDAR
VERSION:2.0
PRODID:SchoolNow
CALSCALE:GREGORIAN
BEGIN:VEVENT
UID:c32e7a30-8d02-11f0-b1e1-0affcc149c19
DTSTAMP:20251121T133525Z
SUMMARY:CSIS Data Governance Academy - Session 1
URL;VALUE=URI:https://www.mcoe.us/educators/professional-development/calend
 ar/8597321/csis-data-governance-academy-session-1
DTSTART:20251016T150000Z
DTEND:20251016T190000Z
ATTACH;FILENAME=CALPADS Data Governance Academy Session 1.pdf;FMTTYPE=appli
 cation/pdf:https://drive.google.com/open?id=1D3PLJCgP8yC2BDSAat929woSTNjv9
 L2w
END:VEVENT
END:VCALENDAR
