BEGIN:VCALENDAR
VERSION:2.0
PRODID:SchoolNow
CALSCALE:GREGORIAN
BEGIN:VEVENT
UID:c32e7d5a-8d02-11f0-84fc-0affcc149c19
DTSTAMP:20251121T133525Z
SUMMARY:ProACT Restraint - Coast
LOCATION:Fort Bragg High School\, 300 Dana St\, Fort Bragg\, CA 95437 Room 
 306
URL;VALUE=URI:https://www.mcoe.us/educators/professional-development/calend
 ar/8597322/proact-restraint-coast
DTSTART:20250917T200000Z
DTEND:20250918T000000Z
ATTACH;FILENAME=ProACT 2025-26.pdf;FMTTYPE=application/pdf:https://drive.go
 ogle.com/open?id=1ptBFe0aEmZHcUeUBd66qn9Y7aCW7Upmx
END:VEVENT
END:VCALENDAR
