BEGIN:VCALENDAR
VERSION:2.0
PRODID:SchoolNow
CALSCALE:GREGORIAN
BEGIN:VEVENT
UID:c32e7f94-8d02-11f0-8612-0affcc149c19
DTSTAMP:20251121T133525Z
SUMMARY:DCN: How Paraprofessionals Can Support the Communication of Student
 s Using ACC - Virtual
LOCATION:Virtual
URL;VALUE=URI:https://www.mcoe.us/educators/professional-development/calend
 ar/8597324/dcn-how-paraprofessionals-can-support-the-communication-of-stud
 ents-using-acc-virtual
DTSTART:20251001T213000Z
DTEND:20251001T233000Z
END:VEVENT
END:VCALENDAR
