BEGIN:VCALENDAR
VERSION:2.0
PRODID:SchoolNow
CALSCALE:GREGORIAN
BEGIN:VEVENT
UID:c32e8084-8d02-11f0-ab45-0affcc149c19
DTSTAMP:20251121T133525Z
SUMMARY:ProACT Restraint - Inland
LOCATION:Birch Lab 1\, 2240 Old River Rd\, Ukiah\, CA 95482\, USA
URL;VALUE=URI:https://www.mcoe.us/educators/professional-development/calend
 ar/8597325/proact-restraint-inland
DTSTART:20251015T153000Z
DTEND:20251015T193000Z
ATTACH;FILENAME=ProACT 2025-26.pdf;FMTTYPE=application/pdf:https://drive.go
 ogle.com/open?id=1ptBFe0aEmZHcUeUBd66qn9Y7aCW7Upmx
END:VEVENT
END:VCALENDAR
