BEGIN:VCALENDAR
VERSION:2.0
PRODID:SchoolNow
CALSCALE:GREGORIAN
BEGIN:VEVENT
UID:c32e816a-8d02-11f0-b469-0affcc149c19
DTSTAMP:20251121T133525Z
SUMMARY:SIP Inclusion Academy - Session 1
LOCATION:2240 Old River Rd\, Ukiah\, CA 95482\, Cedar Building\, River Room
URL;VALUE=URI:https://www.mcoe.us/educators/professional-development/calend
 ar/8597326/sip-inclusion-academy-session-1
DTSTART:20251017T160000Z
DTEND:20251017T230000Z
ATTACH;FILENAME=LakeMendo Academy 2025 (2).pdf;FMTTYPE=application/pdf:http
 s://drive.google.com/open?id=1i8qbNTLff97M54tuy09pIbWMysvM8S8M
END:VEVENT
END:VCALENDAR
