BEGIN:VCALENDAR
VERSION:2.0
PRODID:SchoolNow
CALSCALE:GREGORIAN
BEGIN:VEVENT
UID:c32e86c4-8d02-11f0-92b4-0affcc149c19
DTSTAMP:20251121T133525Z
SUMMARY:ProACT Basic - Inland
LOCATION:2240 Old River Rd\, Ukiah\, CA 95482\, Cedar Building\, River Room
URL;VALUE=URI:https://www.mcoe.us/educators/professional-development/calend
 ar/8597332/proact-basic-inland
DTSTART:20251010T153000Z
DTEND:20251010T233000Z
ATTACH;FILENAME=ProACT 2025-26.pdf;FMTTYPE=application/pdf:https://drive.go
 ogle.com/open?id=1ptBFe0aEmZHcUeUBd66qn9Y7aCW7Upmx
END:VEVENT
END:VCALENDAR
