BEGIN:VCALENDAR
VERSION:2.0
PRODID:SchoolNow
CALSCALE:GREGORIAN
BEGIN:VEVENT
UID:bdc215e6-8e67-11f0-ad10-0e4a1c497813
DTSTAMP:20251121T133525Z
SUMMARY:The Network: Principal's Network
LOCATION:Willits Center For the Arts\, 71 E Commercial St\, Willits\, CA 95
 490\, USA
URL;VALUE=URI:https://www.mcoe.us/educators/professional-development/calend
 ar/8606155/the-network-principals-network
DTSTART:20250925T170000Z
DTEND:20250925T223000Z
END:VEVENT
END:VCALENDAR
