BEGIN:VCALENDAR
VERSION:2.0
PRODID:SchoolNow
CALSCALE:GREGORIAN
BEGIN:VEVENT
UID:bdc2194c-8e67-11f0-a045-0e4a1c497813
DTSTAMP:20251121T133525Z
SUMMARY:Family & Community Liaison Community of Practice
LOCATION:2240 Old River Rd\, Ukiah\, CA 95482\, USA
URL;VALUE=URI:https://www.mcoe.us/educators/professional-development/calend
 ar/8606156/family-community-liaison-community-of-practice
DTSTART:20250930T164500Z
DTEND:20250930T194500Z
END:VEVENT
END:VCALENDAR
