BEGIN:VCALENDAR
VERSION:2.0
PRODID:SchoolNow
CALSCALE:GREGORIAN
BEGIN:VEVENT
UID:bdc21f1e-8e67-11f0-babd-0e4a1c497813
DTSTAMP:20251121T133525Z
SUMMARY:Family & Community Liaison Community of Practice
URL;VALUE=URI:https://www.mcoe.us/educators/professional-development/calend
 ar/8606161/family-community-liaison-community-of-practice
DTSTART:20251106T170000Z
DTEND:20251106T183000Z
END:VEVENT
END:VCALENDAR
