BEGIN:VCALENDAR
VERSION:2.0
PRODID:SchoolNow
CALSCALE:GREGORIAN
BEGIN:VEVENT
UID:bdc2200e-8e67-11f0-994d-0e4a1c497813
DTSTAMP:20251121T133525Z
SUMMARY:Classified Conference
LOCATION:2240 Old River Rd\, Ukiah\, CA 95482\, USA
URL;VALUE=URI:https://www.mcoe.us/educators/professional-development/calend
 ar/8606162/classified-conference
DTSTART:20251103T170000Z
DTEND:20251104T000000Z
END:VEVENT
END:VCALENDAR
