BEGIN:VCALENDAR
VERSION:2.0
PRODID:SchoolNow
CALSCALE:GREGORIAN
BEGIN:VEVENT
UID:b39f3c64-8e9a-11f0-9f79-0affcfc7b053
DTSTAMP:20251121T133525Z
SUMMARY:Mendocino Multilingual Education Collaborative
LOCATION:2240 Old River Rd\, Ukiah\, CA 95482\, USA
URL;VALUE=URI:https://www.mcoe.us/educators/professional-development/calend
 ar/8607179/mendocino-multilingual-education-collaborative
DTSTART:20250911T163000Z
DTEND:20250911T220000Z
END:VEVENT
END:VCALENDAR
