BEGIN:VCALENDAR
VERSION:2.0
PRODID:SchoolNow
CALSCALE:GREGORIAN
BEGIN:VEVENT
UID:eb7bb05a-9d8a-11f0-be46-0affcbf89a2f
DTSTAMP:20251121T133525Z
SUMMARY:IEP Virtual Series
URL;VALUE=URI:https://www.mcoe.us/educators/professional-development/calend
 ar/8678712/iep-virtual-series
DTSTART:20251015T220000Z
DTEND:20251015T233000Z
END:VEVENT
END:VCALENDAR
