BEGIN:VCALENDAR
VERSION:2.0
PRODID:SchoolNow
CALSCALE:GREGORIAN
BEGIN:VEVENT
UID:eb7bb1a4-9d8a-11f0-983c-0affcbf89a2f
DTSTAMP:20251121T133525Z
SUMMARY:IEP Virtual Series
URL;VALUE=URI:https://www.mcoe.us/educators/professional-development/calend
 ar/8678713/iep-virtual-series
DTSTART:20251022T220000Z
DTEND:20251022T233000Z
END:VEVENT
END:VCALENDAR
