BEGIN:VCALENDAR
VERSION:2.0
PRODID:SchoolNow
CALSCALE:GREGORIAN
BEGIN:VEVENT
UID:eb7bb2bc-9d8a-11f0-bccc-0affcbf89a2f
DTSTAMP:20251121T133525Z
SUMMARY:IEP Virtual Series
URL;VALUE=URI:https://www.mcoe.us/educators/professional-development/calend
 ar/8678714/iep-virtual-series
DTSTART:20251105T230000Z
DTEND:20251106T003000Z
END:VEVENT
END:VCALENDAR
