BEGIN:VCALENDAR
VERSION:2.0
PRODID:SchoolNow
CALSCALE:GREGORIAN
BEGIN:VEVENT
UID:eb7bb3b6-9d8a-11f0-9c7d-0affcbf89a2f
DTSTAMP:20251121T133525Z
SUMMARY:IEP Virtual Series
URL;VALUE=URI:https://www.mcoe.us/educators/professional-development/calend
 ar/8678715/iep-virtual-series
DTSTART:20251112T230000Z
DTEND:20251113T003000Z
END:VEVENT
END:VCALENDAR
