BEGIN:VCALENDAR
VERSION:2.0
PRODID:SchoolNow
CALSCALE:GREGORIAN
BEGIN:VEVENT
UID:d86d4a72-9fbb-11f0-92d3-0eac7e71d517
DTSTAMP:20251121T133525Z
SUMMARY:Phlebotomy Applications Available
URL;VALUE=URI:https://www.mcoe.us/educators/professional-development/calend
 ar/8688511/phlebotomy-applications-available
DTSTART;VALUE=DATE:20251001
DTEND;VALUE=DATE:20251002
END:VEVENT
END:VCALENDAR
