BEGIN:VCALENDAR
VERSION:2.0
PRODID:SchoolNow
CALSCALE:GREGORIAN
BEGIN:VEVENT
UID:c7a4402e-b5f0-11f0-a69d-0e2702d3c895
DTSTAMP:20251121T133525Z
SUMMARY:REN Meeting
LOCATION:1265 Blosser Ln\, Willits\, CA 95490\, USA
URL;VALUE=URI:https://www.mcoe.us/educators/professional-development/calend
 ar/8762945/ren-meeting
DTSTART:20251114T173000Z
DTEND:20251114T200000Z
ATTACH;FILENAME=REN November 2025.pdf;FMTTYPE=application/pdf:https://drive
 .google.com/open?id=1yoXSgf3wq0n9LlywmyHN1v7zMtGXd6aN
END:VEVENT
END:VCALENDAR
