BEGIN:VCALENDAR
VERSION:2.0
PRODID:SchoolNow
CALSCALE:GREGORIAN
BEGIN:VEVENT
UID:93608c74-3ccc-11f1-b8d7-0affc787c2fb
DTSTAMP:20260420T152116Z
SUMMARY:Mathematics Framework Key Shifts and Curricula Review-Planning
URL;VALUE=URI:https://www.mcoe.us/educators/professional-development/calend
 ar/9007433/mathematics-framework-key-shifts-and-curricula-review-planning
DTSTART:20260422T160000Z
DTEND:20260422T200000Z
END:VEVENT
END:VCALENDAR
