BEGIN:VCALENDAR
VERSION:2.0
PRODID:SchoolNow
CALSCALE:GREGORIAN
BEGIN:VEVENT
UID:e8f3624e-9e23-11f0-bb64-0a58a9feac02
DTSTAMP:20251121T133525Z
SUMMARY:Science Fair Coordinator Orientation (Virtual)
URL;VALUE=URI:https://www.mcoe.us/for-community-families/student-events/cal
 endar/8681249/science-fair-coordinator-orientation-virtual
DTSTART:20251002T230000Z
DTEND:20251002T233000Z
END:VEVENT
END:VCALENDAR
