BEGIN:VCALENDAR
VERSION:2.0
PRODID:SchoolNow
CALSCALE:GREGORIAN
BEGIN:VEVENT
UID:e8809bc4-9f22-11f0-840e-024bb8d63eef
DTSTAMP:20251121T133525Z
SUMMARY:Dental Assistant Applications Available
URL;VALUE=URI:https://www.mcoe.us/for-community-families/student-events/cal
 endar/8686067/dental-assistant-applications-available
DTSTART;VALUE=DATE:20251001
DTEND;VALUE=DATE:20251002
END:VEVENT
END:VCALENDAR
